BEGIN:VCALENDAR
VERSION:2.0
PRODID:-//Rajamäki Racing Experience - ECPv6.2.8.2//NONSGML v1.0//EN
CALSCALE:GREGORIAN
METHOD:PUBLISH
X-ORIGINAL-URL:https://rajamakiracing.com
X-WR-CALDESC:Events for Rajamäki Racing Experience
REFRESH-INTERVAL;VALUE=DURATION:PT1H
X-Robots-Tag:noindex
X-PUBLISHED-TTL:PT1H
BEGIN:VTIMEZONE
TZID:Europe/Stockholm
BEGIN:DAYLIGHT
TZOFFSETFROM:+0100
TZOFFSETTO:+0200
TZNAME:CEST
DTSTART:20230326T010000
END:DAYLIGHT
BEGIN:STANDARD
TZOFFSETFROM:+0200
TZOFFSETTO:+0100
TZNAME:CET
DTSTART:20231029T010000
END:STANDARD
END:VTIMEZONE
BEGIN:VEVENT
DTSTART;VALUE=DATE:20230524
DTEND;VALUE=DATE:20230525
DTSTAMP:20260426T051724
CREATED:20221024T181010Z
LAST-MODIFIED:20221024T181010Z
UID:3153-1684886400-1684972799@rajamakiracing.com
SUMMARY:Scandinavian Raceway 24/5 2023
DESCRIPTION:Förverkliga din livsdröm och kör en Formel 1-bil. En oslagbar racingupplevelse där du får köra på Skandinaviens enda bana för Formel 1\, Scandinavian Raceway. \nLäs mer om detta evenemang! \nMake your dream come true and drive a Formula 1 car. An unbeatable racing experience where you can drive on Scandinavia’s only track for Formula 1\, Scandinavian Raceway. \nRead more about this event!
URL:https://rajamakiracing.com/event/scandinavian-raceway-24-5-2023/
LOCATION:Scandinavian Raceway\, Nennesmovägen 20\, Anderstorp\, 334 91\, Sverige
ORGANIZER;CN="Rajam%C3%A4ki Racing Experience":MAILTO:johan@rajamakiracing.com
END:VEVENT
BEGIN:VEVENT
DTSTART;VALUE=DATE:20230525
DTEND;VALUE=DATE:20230526
DTSTAMP:20260426T051724
CREATED:20221024T182719Z
LAST-MODIFIED:20230327T113418Z
UID:3155-1684972800-1685059199@rajamakiracing.com
SUMMARY:Scandinavian Raceway 25/5 2023
DESCRIPTION:Förverkliga din livsdröm och kör en Formel 1-bil. En oslagbar racingupplevelse där du får köra på Skandinaviens enda bana för Formel 1\, Scandinavian Raceway. \nLäs mer om detta evenemang! \nMake your dream come true and drive a Formula 1 car. An unbeatable racing experience where you can drive on Scandinavia’s only track for Formula 1\, Scandinavian Raceway. \nRead more about this event!
URL:https://rajamakiracing.com/event/scandinavian-raceway-25-5-2023/
LOCATION:Scandinavian Raceway\, Nennesmovägen 20\, Anderstorp\, 334 91\, Sverige
ORGANIZER;CN="Rajam%C3%A4ki Racing Experience":MAILTO:johan@rajamakiracing.com
END:VEVENT
END:VCALENDAR